BEGIN:VCALENDAR
VERSION:2.0
PRODID:-//Squarespace Inc/Squarespace 6//v6//EN
BEGIN:VEVENT
UID:56c3c7a62fe1319105b9d056@squarespace.com
DTSTAMP:20160324T102340Z
DTSTART:20160223T080000Z
DTEND:20160223T170000Z
SUMMARY:1st Global Symposium on Advancing Methanol Engines for Sustainable 
 Transport
GEO:64.134176;-21.915426
LOCATION:Grand Hotel\, Sigtún\, Reykjavík\, Capital Region\, Austurbær\, Ic
 eland
END:VEVENT
END:VCALENDAR
